BEGIN:VCALENDAR
VERSION:2.0
PRODID:-//Kleinkaliber-Sportverein Timmerlah von 1936 e.V. - ECPv6.15.20//NONSGML v1.0//EN
CALSCALE:GREGORIAN
METHOD:PUBLISH
X-WR-CALNAME:Kleinkaliber-Sportverein Timmerlah von 1936 e.V.
X-ORIGINAL-URL:https://kksvtimmerlah.de
X-WR-CALDESC:Veranstaltungen für Kleinkaliber-Sportverein Timmerlah von 1936 e.V.
REFRESH-INTERVAL;VALUE=DURATION:PT1H
X-Robots-Tag:noindex
X-PUBLISHED-TTL:PT1H
BEGIN:VTIMEZONE
TZID:Europe/Berlin
BEGIN:DAYLIGHT
TZOFFSETFROM:+0100
TZOFFSETTO:+0200
TZNAME:CEST
DTSTART:20210328T010000
END:DAYLIGHT
BEGIN:STANDARD
TZOFFSETFROM:+0200
TZOFFSETTO:+0100
TZNAME:CET
DTSTART:20211031T010000
END:STANDARD
BEGIN:DAYLIGHT
TZOFFSETFROM:+0100
TZOFFSETTO:+0200
TZNAME:CEST
DTSTART:20220327T010000
END:DAYLIGHT
BEGIN:STANDARD
TZOFFSETFROM:+0200
TZOFFSETTO:+0100
TZNAME:CET
DTSTART:20221030T010000
END:STANDARD
BEGIN:DAYLIGHT
TZOFFSETFROM:+0100
TZOFFSETTO:+0200
TZNAME:CEST
DTSTART:20230326T010000
END:DAYLIGHT
BEGIN:STANDARD
TZOFFSETFROM:+0200
TZOFFSETTO:+0100
TZNAME:CET
DTSTART:20231029T010000
END:STANDARD
END:VTIMEZONE
BEGIN:VEVENT
DTSTART;TZID=Europe/Berlin:20221016T110000
DTEND;TZID=Europe/Berlin:20221016T170000
DTSTAMP:20260425T140824
CREATED:20220306T173847Z
LAST-MODIFIED:20220306T173847Z
UID:3192-1665918000-1665939600@kksvtimmerlah.de
SUMMARY:Damenpokal
DESCRIPTION:Auch in diesem Jahr schießen wir Damen wieder einen Damenpokal untereinander aus. Die Einladung ist allen Damen zuvor per Post oder per E-Mail zugestellt worden. \nAnsprechpartner: Sven Meyer (Schießsportleiter) – schiesssport@kksvtimmerlah.de
URL:https://kksvtimmerlah.de/event/damenpokal-2/
LOCATION:Schützenhaus\, KKSV-Timmerlah e.V.\, Tiefe Wiese 6\, Braunschweig\, Niedersachsen\, 38120\, Deutschland
CATEGORIES:Schießveranstaltung
ORGANIZER;CN="Kleinkaliber-Sportverein Timmerlah von 1936 e.V.":MAILTO:info@kksv-timmerlah.de
END:VEVENT
END:VCALENDAR