BEGIN:VCALENDAR
VERSION:2.0
PRODID:-//Kleinkaliber-Sportverein Timmerlah von 1936 e.V. - ECPv6.15.20//NONSGML v1.0//EN
CALSCALE:GREGORIAN
METHOD:PUBLISH
X-ORIGINAL-URL:https://kksvtimmerlah.de
X-WR-CALDESC:Veranstaltungen für Kleinkaliber-Sportverein Timmerlah von 1936 e.V.
REFRESH-INTERVAL;VALUE=DURATION:PT1H
X-Robots-Tag:noindex
X-PUBLISHED-TTL:PT1H
BEGIN:VTIMEZONE
TZID:Europe/Berlin
BEGIN:DAYLIGHT
TZOFFSETFROM:+0100
TZOFFSETTO:+0200
TZNAME:CEST
DTSTART:20230326T010000
END:DAYLIGHT
BEGIN:STANDARD
TZOFFSETFROM:+0200
TZOFFSETTO:+0100
TZNAME:CET
DTSTART:20231029T010000
END:STANDARD
BEGIN:DAYLIGHT
TZOFFSETFROM:+0100
TZOFFSETTO:+0200
TZNAME:CEST
DTSTART:20240331T010000
END:DAYLIGHT
BEGIN:STANDARD
TZOFFSETFROM:+0200
TZOFFSETTO:+0100
TZNAME:CET
DTSTART:20241027T010000
END:STANDARD
BEGIN:DAYLIGHT
TZOFFSETFROM:+0100
TZOFFSETTO:+0200
TZNAME:CEST
DTSTART:20250330T010000
END:DAYLIGHT
BEGIN:STANDARD
TZOFFSETFROM:+0200
TZOFFSETTO:+0100
TZNAME:CET
DTSTART:20251026T010000
END:STANDARD
END:VTIMEZONE
BEGIN:VEVENT
DTSTART;TZID=Europe/Berlin:20240601T140000
DTEND;TZID=Europe/Berlin:20240601T170000
DTSTAMP:20260426T040049
CREATED:20230802T181353Z
LAST-MODIFIED:20230802T181546Z
UID:4414-1717250400-1717261200@kksvtimmerlah.de
SUMMARY:Königsschießen der Gemeinschaft für Wohneigentum Timmerlah e.V.
DESCRIPTION:Die Gemeinschaft für Wohneigentum Timmerlah veranstaltet ihr jährliches Königsschießen. Weitere Informationen sind bei der Gemeinschaft für Wohneigentum zu entnehmen.
URL:https://kksvtimmerlah.de/event/koenigsschiessen-der-gemeinschaft-fuer-wohneigentum-timmerlah-e-v-2/
LOCATION:Schützenhaus\, KKSV-Timmerlah e.V.\, Tiefe Wiese 6\, Braunschweig\, Niedersachsen\, 38120\, Deutschland
CATEGORIES:Königsschießen
END:VEVENT
END:VCALENDAR