BEGIN:VCALENDAR
VERSION:2.0
PRODID:-//Kleinkaliber-Sportverein Timmerlah von 1936 e.V. - ECPv6.15.20//NONSGML v1.0//EN
CALSCALE:GREGORIAN
METHOD:PUBLISH
X-WR-CALNAME:Kleinkaliber-Sportverein Timmerlah von 1936 e.V.
X-ORIGINAL-URL:https://kksvtimmerlah.de
X-WR-CALDESC:Veranstaltungen für Kleinkaliber-Sportverein Timmerlah von 1936 e.V.
REFRESH-INTERVAL;VALUE=DURATION:PT1H
X-Robots-Tag:noindex
X-PUBLISHED-TTL:PT1H
BEGIN:VTIMEZONE
TZID:Europe/Berlin
BEGIN:DAYLIGHT
TZOFFSETFROM:+0100
TZOFFSETTO:+0200
TZNAME:CEST
DTSTART:20210328T010000
END:DAYLIGHT
BEGIN:STANDARD
TZOFFSETFROM:+0200
TZOFFSETTO:+0100
TZNAME:CET
DTSTART:20211031T010000
END:STANDARD
BEGIN:DAYLIGHT
TZOFFSETFROM:+0100
TZOFFSETTO:+0200
TZNAME:CEST
DTSTART:20220327T010000
END:DAYLIGHT
BEGIN:STANDARD
TZOFFSETFROM:+0200
TZOFFSETTO:+0100
TZNAME:CET
DTSTART:20221030T010000
END:STANDARD
BEGIN:DAYLIGHT
TZOFFSETFROM:+0100
TZOFFSETTO:+0200
TZNAME:CEST
DTSTART:20230326T010000
END:DAYLIGHT
BEGIN:STANDARD
TZOFFSETFROM:+0200
TZOFFSETTO:+0100
TZNAME:CET
DTSTART:20231029T010000
END:STANDARD
END:VTIMEZONE
BEGIN:VEVENT
DTSTART;TZID=Europe/Berlin:20221208T180000
DTEND;TZID=Europe/Berlin:20221208T210000
DTSTAMP:20260424T142704
CREATED:20220306T180102Z
LAST-MODIFIED:20220306T180102Z
UID:3236-1670522400-1670533200@kksvtimmerlah.de
SUMMARY:Lebendiger Adventskalender
DESCRIPTION:Auch in diesem Jahr enthüllen wir im Rahmen des lebendigen Adventskalenders der evangelischen Kirchengemeinde Timmerlah ein Kalendertürchen.
URL:https://kksvtimmerlah.de/event/lebendiger-adventskalender/
CATEGORIES:Veranstaltung
END:VEVENT
END:VCALENDAR