BEGIN:VCALENDAR
VERSION:2.0
PRODID:-//Kleinkaliber-Sportverein Timmerlah von 1936 e.V. - ECPv6.15.20//NONSGML v1.0//EN
CALSCALE:GREGORIAN
METHOD:PUBLISH
X-ORIGINAL-URL:https://kksvtimmerlah.de
X-WR-CALDESC:Veranstaltungen für Kleinkaliber-Sportverein Timmerlah von 1936 e.V.
REFRESH-INTERVAL;VALUE=DURATION:PT1H
X-Robots-Tag:noindex
X-PUBLISHED-TTL:PT1H
BEGIN:VTIMEZONE
TZID:Europe/Berlin
BEGIN:DAYLIGHT
TZOFFSETFROM:+0100
TZOFFSETTO:+0200
TZNAME:CEST
DTSTART:20220327T010000
END:DAYLIGHT
BEGIN:STANDARD
TZOFFSETFROM:+0200
TZOFFSETTO:+0100
TZNAME:CET
DTSTART:20221030T010000
END:STANDARD
BEGIN:DAYLIGHT
TZOFFSETFROM:+0100
TZOFFSETTO:+0200
TZNAME:CEST
DTSTART:20230326T010000
END:DAYLIGHT
BEGIN:STANDARD
TZOFFSETFROM:+0200
TZOFFSETTO:+0100
TZNAME:CET
DTSTART:20231029T010000
END:STANDARD
BEGIN:DAYLIGHT
TZOFFSETFROM:+0100
TZOFFSETTO:+0200
TZNAME:CEST
DTSTART:20240331T010000
END:DAYLIGHT
BEGIN:STANDARD
TZOFFSETFROM:+0200
TZOFFSETTO:+0100
TZNAME:CET
DTSTART:20241027T010000
END:STANDARD
END:VTIMEZONE
BEGIN:VEVENT
DTSTART;TZID=Europe/Berlin:20231106T180000
DTEND;TZID=Europe/Berlin:20231106T200000
DTSTAMP:20260424T003307
CREATED:20230802T172412Z
LAST-MODIFIED:20230802T172727Z
UID:4378-1699293600-1699300800@kksvtimmerlah.de
SUMMARY:Vereinsmeisterschaft Bogen
DESCRIPTION:Die Vereinsmeisterschaft Bogen findet statt. Weitere Informationen sind der Ausschreibung am schwarzen Brett zu entnehmen. \n\n\n\nAnsprechpartner: Bogensportleiter- bogensport@kksvtimmerlah.de
URL:https://kksvtimmerlah.de/event/vereinsmeisterschaft-bogen/
LOCATION:Schützenhaus\, KKSV-Timmerlah e.V.\, Tiefe Wiese 6\, Braunschweig\, Niedersachsen\, 38120\, Deutschland
CATEGORIES:Bogenschießen,Schießveranstaltung,Wettkampf
END:VEVENT
BEGIN:VEVENT
DTSTART;TZID=Europe/Berlin:20231108T163000
DTEND;TZID=Europe/Berlin:20231108T203000
DTSTAMP:20260424T003307
CREATED:20230802T172548Z
LAST-MODIFIED:20230802T172705Z
UID:4380-1699461000-1699475400@kksvtimmerlah.de
SUMMARY:Vereinsmeisterschaft Bogen
DESCRIPTION:Die Vereinsmeisterschaft Bogen findet statt. Weitere Informationen sind der Ausschreibung am schwarzen Brett zu entnehmen. \n\n\n\nAnsprechpartner: Bogensportleiter – bogensport@kksvtimmerlah.de
URL:https://kksvtimmerlah.de/event/vereinsmeisterschaft-bogen-2/
LOCATION:Schützenhaus\, KKSV-Timmerlah e.V.\, Tiefe Wiese 6\, Braunschweig\, Niedersachsen\, 38120\, Deutschland
CATEGORIES:Bogenschießen,Schießveranstaltung,Wettkampf
END:VEVENT
BEGIN:VEVENT
DTSTART;TZID=Europe/Berlin:20231113T180000
DTEND;TZID=Europe/Berlin:20231113T200000
DTSTAMP:20260424T003307
CREATED:20230802T173204Z
LAST-MODIFIED:20230802T173206Z
UID:4384-1699898400-1699905600@kksvtimmerlah.de
SUMMARY:Vereinsmeisterschaft Bogen
DESCRIPTION:Die Vereinsmeisterschaft Bogen findet statt. Weitere Informationen sind der Ausschreibung am schwarzen Brett zu entnehmen. \n\n\n\nAnsprechpartner: Bogensportleiter – bogensport@kksvtimmerlah.de
URL:https://kksvtimmerlah.de/event/vereinsmeisterschaft-bogen-3/
LOCATION:Schützenhaus\, KKSV-Timmerlah e.V.\, Tiefe Wiese 6\, Braunschweig\, Niedersachsen\, 38120\, Deutschland
CATEGORIES:Bogenschießen,Schießveranstaltung,Wettkampf
END:VEVENT
BEGIN:VEVENT
DTSTART;TZID=Europe/Berlin:20231115T163000
DTEND;TZID=Europe/Berlin:20231115T203000
DTSTAMP:20260424T003307
CREATED:20230802T173332Z
LAST-MODIFIED:20230802T173334Z
UID:4386-1700065800-1700080200@kksvtimmerlah.de
SUMMARY:Vereinsmeisterschaft Bogen
DESCRIPTION:Die Vereinsmeisterschaft Bogen findet statt. Weitere Informationen sind der Ausschreibung am schwarzen Brett zu entnehmen. \n\n\n\nAnsprechpartner: Bogensportleiter – bogensport@kksvtimmerlah.de
URL:https://kksvtimmerlah.de/event/vereinsmeisterschaft-bogen-4/
LOCATION:Schützenhaus\, KKSV-Timmerlah e.V.\, Tiefe Wiese 6\, Braunschweig\, Niedersachsen\, 38120\, Deutschland
CATEGORIES:Bogenschießen,Schießveranstaltung,Wettkampf
END:VEVENT
END:VCALENDAR