BEGIN:VCALENDAR
VERSION:2.0
PRODID:-//Kleinkaliber-Sportverein Timmerlah von 1936 e.V. - ECPv6.15.20//NONSGML v1.0//EN
CALSCALE:GREGORIAN
METHOD:PUBLISH
X-WR-CALNAME:Kleinkaliber-Sportverein Timmerlah von 1936 e.V.
X-ORIGINAL-URL:https://kksvtimmerlah.de
X-WR-CALDESC:Veranstaltungen für Kleinkaliber-Sportverein Timmerlah von 1936 e.V.
REFRESH-INTERVAL;VALUE=DURATION:PT1H
X-Robots-Tag:noindex
X-PUBLISHED-TTL:PT1H
BEGIN:VTIMEZONE
TZID:Europe/Berlin
BEGIN:DAYLIGHT
TZOFFSETFROM:+0100
TZOFFSETTO:+0200
TZNAME:CEST
DTSTART:20230326T010000
END:DAYLIGHT
BEGIN:STANDARD
TZOFFSETFROM:+0200
TZOFFSETTO:+0100
TZNAME:CET
DTSTART:20231029T010000
END:STANDARD
BEGIN:DAYLIGHT
TZOFFSETFROM:+0100
TZOFFSETTO:+0200
TZNAME:CEST
DTSTART:20240331T010000
END:DAYLIGHT
BEGIN:STANDARD
TZOFFSETFROM:+0200
TZOFFSETTO:+0100
TZNAME:CET
DTSTART:20241027T010000
END:STANDARD
BEGIN:DAYLIGHT
TZOFFSETFROM:+0100
TZOFFSETTO:+0200
TZNAME:CEST
DTSTART:20250330T010000
END:DAYLIGHT
BEGIN:STANDARD
TZOFFSETFROM:+0200
TZOFFSETTO:+0100
TZNAME:CET
DTSTART:20251026T010000
END:STANDARD
END:VTIMEZONE
BEGIN:VEVENT
DTSTART;TZID=Europe/Berlin:20241024T180000
DTEND;TZID=Europe/Berlin:20241024T203000
DTSTAMP:20260423T103635
CREATED:20240801T154345Z
LAST-MODIFIED:20240801T154347Z
UID:5049-1729792800-1729801800@kksvtimmerlah.de
SUMMARY:Vereinsmeisterschaft LG\, LP\, KK
DESCRIPTION:
URL:https://kksvtimmerlah.de/event/vereinsmeisterschaft-lg-lp-kk/
LOCATION:Schützenhaus\, KKSV-Timmerlah e.V.\, Tiefe Wiese 6\, Braunschweig\, Niedersachsen\, 38120\, Deutschland
CATEGORIES:Wettkampf
END:VEVENT
END:VCALENDAR