BEGIN:VCALENDAR
VERSION:2.0
PRODID:-//Kleinkaliber-Sportverein Timmerlah von 1936 e.V. - ECPv6.15.20//NONSGML v1.0//EN
CALSCALE:GREGORIAN
METHOD:PUBLISH
X-WR-CALNAME:Kleinkaliber-Sportverein Timmerlah von 1936 e.V.
X-ORIGINAL-URL:https://kksvtimmerlah.de
X-WR-CALDESC:Veranstaltungen für Kleinkaliber-Sportverein Timmerlah von 1936 e.V.
REFRESH-INTERVAL;VALUE=DURATION:PT1H
X-Robots-Tag:noindex
X-PUBLISHED-TTL:PT1H
BEGIN:VTIMEZONE
TZID:Europe/Berlin
BEGIN:DAYLIGHT
TZOFFSETFROM:+0100
TZOFFSETTO:+0200
TZNAME:CEST
DTSTART:20230326T010000
END:DAYLIGHT
BEGIN:STANDARD
TZOFFSETFROM:+0200
TZOFFSETTO:+0100
TZNAME:CET
DTSTART:20231029T010000
END:STANDARD
BEGIN:DAYLIGHT
TZOFFSETFROM:+0100
TZOFFSETTO:+0200
TZNAME:CEST
DTSTART:20240331T010000
END:DAYLIGHT
BEGIN:STANDARD
TZOFFSETFROM:+0200
TZOFFSETTO:+0100
TZNAME:CET
DTSTART:20241027T010000
END:STANDARD
BEGIN:DAYLIGHT
TZOFFSETFROM:+0100
TZOFFSETTO:+0200
TZNAME:CEST
DTSTART:20250330T010000
END:DAYLIGHT
BEGIN:STANDARD
TZOFFSETFROM:+0200
TZOFFSETTO:+0100
TZNAME:CET
DTSTART:20251026T010000
END:STANDARD
END:VTIMEZONE
BEGIN:VEVENT
DTSTART;TZID=Europe/Berlin:20241004T180000
DTEND;TZID=Europe/Berlin:20241004T220000
DTSTAMP:20260423T061825
CREATED:20240801T153633Z
LAST-MODIFIED:20240801T155340Z
UID:5034-1728064800-1728079200@kksvtimmerlah.de
SUMMARY:Vermietung
DESCRIPTION:Das Schützenhaus ist vermietet.
URL:https://kksvtimmerlah.de/event/vermietung-30/
LOCATION:Schützenhaus\, KKSV-Timmerlah e.V.\, Tiefe Wiese 6\, Braunschweig\, Niedersachsen\, 38120\, Deutschland
END:VEVENT
BEGIN:VEVENT
DTSTART;TZID=Europe/Berlin:20241011T000000
DTEND;TZID=Europe/Berlin:20241011T235959
DTSTAMP:20260423T061825
CREATED:20240801T153909Z
LAST-MODIFIED:20240801T155437Z
UID:5036-1728604800-1728691199@kksvtimmerlah.de
SUMMARY:Vermietung
DESCRIPTION:Das Schützenhaus ist vermietet.
URL:https://kksvtimmerlah.de/event/vermietung-31/
LOCATION:Schützenhaus\, KKSV-Timmerlah e.V.\, Tiefe Wiese 6\, Braunschweig\, Niedersachsen\, 38120\, Deutschland
CATEGORIES:Vermietung
END:VEVENT
END:VCALENDAR