BEGIN:VCALENDAR
VERSION:2.0
PRODID:-//Kleinkaliber-Sportverein Timmerlah von 1936 e.V. - ECPv6.15.20//NONSGML v1.0//EN
CALSCALE:GREGORIAN
METHOD:PUBLISH
X-ORIGINAL-URL:https://kksvtimmerlah.de
X-WR-CALDESC:Veranstaltungen für Kleinkaliber-Sportverein Timmerlah von 1936 e.V.
REFRESH-INTERVAL;VALUE=DURATION:PT1H
X-Robots-Tag:noindex
X-PUBLISHED-TTL:PT1H
BEGIN:VTIMEZONE
TZID:Europe/Berlin
BEGIN:DAYLIGHT
TZOFFSETFROM:+0100
TZOFFSETTO:+0200
TZNAME:CEST
DTSTART:20230326T010000
END:DAYLIGHT
BEGIN:STANDARD
TZOFFSETFROM:+0200
TZOFFSETTO:+0100
TZNAME:CET
DTSTART:20231029T010000
END:STANDARD
BEGIN:DAYLIGHT
TZOFFSETFROM:+0100
TZOFFSETTO:+0200
TZNAME:CEST
DTSTART:20240331T010000
END:DAYLIGHT
BEGIN:STANDARD
TZOFFSETFROM:+0200
TZOFFSETTO:+0100
TZNAME:CET
DTSTART:20241027T010000
END:STANDARD
BEGIN:DAYLIGHT
TZOFFSETFROM:+0100
TZOFFSETTO:+0200
TZNAME:CEST
DTSTART:20250330T010000
END:DAYLIGHT
BEGIN:STANDARD
TZOFFSETFROM:+0200
TZOFFSETTO:+0100
TZNAME:CET
DTSTART:20251026T010000
END:STANDARD
END:VTIMEZONE
BEGIN:VEVENT
DTSTART;TZID=Europe/Berlin:20240613T180000
DTEND;TZID=Europe/Berlin:20240613T210000
DTSTAMP:20260425T012944
CREATED:20230802T180629Z
LAST-MODIFIED:20230802T180631Z
UID:4408-1718301600-1718312400@kksvtimmerlah.de
SUMMARY:Volkskönigsschießen
DESCRIPTION:Das Volkskönigsschießen findet statt. Alle Bürgerinnen und Bürger Timmerlahs sind herzlich dazu eingeladen am Volkskönigsschießen teilzunehmen. \n\n\n\nAnsprechpartner: Schießsportleiter – schiesssport@kksvtimmerlah.de
URL:https://kksvtimmerlah.de/event/volkskoenigsschiessen-18/
LOCATION:Schützenhaus\, KKSV-Timmerlah e.V.\, Tiefe Wiese 6\, Braunschweig\, Niedersachsen\, 38120\, Deutschland
CATEGORIES:Königsschießen,Schießveranstaltung,Wettkampf
END:VEVENT
BEGIN:VEVENT
DTSTART;TZID=Europe/Berlin:20240620T180000
DTEND;TZID=Europe/Berlin:20240620T210000
DTSTAMP:20260425T012944
CREATED:20230802T180735Z
LAST-MODIFIED:20230802T180737Z
UID:4410-1718906400-1718917200@kksvtimmerlah.de
SUMMARY:Volkskönigsschießen
DESCRIPTION:Das Volkskönigsschießen findet statt. Alle Bürgerinnen und Bürger Timmerlahs sind herzlich dazu eingeladen am Volkskönigsschießen teilzunehmen. \n\n\n\nAnsprechpartner: Schießsportleiter – schiesssport@kksvtimmerlah.de
URL:https://kksvtimmerlah.de/event/volkskoenigsschiessen-19/
LOCATION:Schützenhaus\, KKSV-Timmerlah e.V.\, Tiefe Wiese 6\, Braunschweig\, Niedersachsen\, 38120\, Deutschland
CATEGORIES:Königsschießen,Schießveranstaltung,Wettkampf
END:VEVENT
END:VCALENDAR